BEGIN:VCALENDAR
VERSION:2.0
PRODID:-//Tuscarawas County Soap Box Derby - ECPv6.15.20//NONSGML v1.0//EN
CALSCALE:GREGORIAN
METHOD:PUBLISH
X-WR-CALNAME:Tuscarawas County Soap Box Derby
X-ORIGINAL-URL:https://tuscarawascounty.soapboxderby.org
X-WR-CALDESC:Events for Tuscarawas County Soap Box Derby
REFRESH-INTERVAL;VALUE=DURATION:PT1H
X-Robots-Tag:noindex
X-PUBLISHED-TTL:PT1H
BEGIN:VTIMEZONE
TZID:UTC
BEGIN:STANDARD
TZOFFSETFROM:+0000
TZOFFSETTO:+0000
TZNAME:UTC
DTSTART:20250101T000000
END:STANDARD
END:VTIMEZONE
BEGIN:VEVENT
DTSTART;TZID=UTC:20260606T070000
DTEND;TZID=UTC:20260606T170000
DTSTAMP:20260423T084402
CREATED:20260224T184041Z
LAST-MODIFIED:20260224T184959Z
UID:2026-1780729200-1780765200@tuscarawascounty.soapboxderby.org
SUMMARY:2026 Tuscarawas County Local Race
DESCRIPTION:Join Us for the 2026 Tuscarawas County Local Soap Box Derby Race!\nWe are excited to invite you to \nRace Day: June 6\, 2026\nRain Date: June 7\, 2026 \nRequired Build Clinics (For Borrowed Cars)\nParticipants borrowing a car must attend one of the following build clinics: \n\nMay 27\, 2026 | 6:00–8:00 PM\nMay 30\, 2026 | 10:00 AM–4:00 PM\nMay 31\, 2026 | 10:00 AM–4:00 PM\n\nSign up for a time slot here:\nhttps://www.signupgenius.com/go/10C0D4CA9A92EA1FECF8-62157905-2026 \nMandatory Practice Night\nAll racers must attend: \nJune 5\, 2026 | 6:00–9:00 PM \nIf you do not attend practice night\, you will not be permitted to race on Saturday. \nRace Day Banquet & Awards\nFollowing the race on June 6\, we will host our annual awards banquet approximately one hour after racing concludes. \nWe will provide food and drinks as we celebrate our racers and recognize their accomplishments. We encourage all families to stay and enjoy this special time together. \n2026 Race Fees\n\n$35 – Local Entry Fee (includes race t-shirt)\n$15 – Car Borrowing Fee (helps with upkeep and maintenance)\n\nLoaner Car Reservations\nLoaner cars are assigned on a first-come\, first-served basis and typically fill quickly. \nTo reserve a car: \n\nA $20 non-refundable deposit is required\nThe deposit will be applied toward your race fees\nA car cannot be held until the deposit is received\n\nReturning racers have priority access through May 8\, 2026. \nAfter May 8\, remaining cars will be made available to new participants. \nBeginning May 9\, 2026\, we will host fun runs to fill any remaining available car spots. \nWe strongly encourage families to reserve early to ensure availability. \nHow to Register\nRegister Online\nhttps://www.jotform.com/sign/260324976604056/invite/01kgftkh4s30bea0d94849f770 \nSubmit Payment\nhttps://www.paypal.com/ncp/payment/97GK6J8DKSTXW \nRegister by Mail\nComplete the included forms and mail with payment to: \nTuscarawas County Soap Box Derby\n211 Clarence Dr SE\nNew Philadelphia\, Ohio 44663 \nQuestions?\nFacebook: www.facebook.com/tusccosbd\nCall or Text: 330-204-5711 \nWe look forward to another exciting season and hope to see you at the starting line on June 6th! \nTuscarawas County Soap Box Derby\nBoard of Directors \n  \n  \n 
URL:https://tuscarawascounty.soapboxderby.org/event/2026-tuscarawas-county-local-race/
LOCATION:Wabash Hill\, Wabash Ave NW\, New Philadelphia\, Ohio\, 44663
END:VEVENT
BEGIN:VEVENT
DTSTART;TZID=UTC:20260606T070000
DTEND;TZID=UTC:20260606T170000
DTSTAMP:20260423T084402
CREATED:20260309T191227Z
LAST-MODIFIED:20260309T191523Z
UID:2030-1780729200-1780765200@tuscarawascounty.soapboxderby.org
SUMMARY:2026 Tuscarawas County Ohio Local Race
DESCRIPTION:Join Us for the 2026 Tuscarawas County Local Soap Box Derby Race!\nWe are excited to invite you to \nRace Day: June 6\, 2026\nRain Date: June 7\, 2026 \nRequired Build Clinics (For Borrowed Cars)\nParticipants borrowing a car must attend one of the following build clinics: \n\nMay 27\, 2026 | 6:00–8:00 PM\nMay 30\, 2026 | 10:00 AM–4:00 PM\nMay 31\, 2026 | 10:00 AM–4:00 PM\n\nSign up for a time slot here:\nhttps://www.signupgenius.com/go/10C0D4CA9A92EA1FECF8-62157905-2026 \nMandatory Practice Night\nAll racers must attend: \nJune 5\, 2026 | 6:00–9:00 PM \nIf you do not attend practice night\, you will not be permitted to race on Saturday. \nRace Day Banquet & Awards\nFollowing the race on June 6\, we will host our annual awards banquet approximately one hour after racing concludes. \nWe will provide food and drinks as we celebrate our racers and recognize their accomplishments. We encourage all families to stay and enjoy this special time together. \n2026 Race Fees\n\n$35 – Local Entry Fee (includes race t-shirt)\n$15 – Car Borrowing Fee (helps with upkeep and maintenance)\n\nLoaner Car Reservations\nLoaner cars are assigned on a first-come\, first-served basis and typically fill quickly. \nTo reserve a car: \n\nA $20 non-refundable deposit is required\nThe deposit will be applied toward your race fees\nA car cannot be held until the deposit is received\n\nReturning racers have priority access through May 8\, 2026. \nAfter May 8\, remaining cars will be made available to new participants. \nBeginning May 9\, 2026\, we will host fun runs to fill any remaining available car spots. \nWe strongly encourage families to reserve early to ensure availability. \n  \nHow to Register \nRegister Online\nhttps://www.jotform.com/sign/260324976604056/invite/01kgftkh4s30bea0d94849f770 \nSubmit Payment\nhttps://www.paypal.com/ncp/payment/97GK6J8DKSTXW \nRegister by Mail\nComplete the included forms and mail with payment to: \nTuscarawas County Soap Box Derby\n211 Clarence Dr SE\nNew Philadelphia\, Ohio 44663 \nQuestions?\nFacebook: www.facebook.com/tusccosbd\nCall or Text: 330-204-5711 \nWe look forward to another exciting season and hope to see you at the starting line on June 6th!
URL:https://tuscarawascounty.soapboxderby.org/event/2026-tuscarawas-county-ohio-local-race/
LOCATION:Wabash Hill\, Wabash Ave NW\, New Philadelphia\, Ohio\, 44663
CATEGORIES:Local Race
END:VEVENT
END:VCALENDAR